BEGIN:VCALENDAR
VERSION:2.0
PRODID:-//ChamberMaster//Event Calendar 2.0//EN
METHOD:PUBLISH
X-PUBLISHED-TTL:P3D
REFRESH-INTERVAL:P3D
CALSCALE:GREGORIAN
BEGIN:VEVENT
DTSTART:20220913T143000Z
DTEND:20220913T183000Z
X-MICROSOFT-CDO-ALLDAYEVENT:FALSE
SUMMARY:World of Work (WOW) Youth Expo
DESCRIPTION:Join Workforce Solutions of West Central Texas for the 2022 World of Work (WOW) Youth Expo\, where students in 9th-12th grade explore\, connect\, and engage with employers and organizations to learn about various types of careers in West Central Texas. Many exhibits offer a behind-the-scenes look at the equipment\, materials\, and processes real employees use on-the-job. The event also includes an engaging keynote speaker and workforce readiness activities like mock interviews\, how-to tie a tie\, writing a thank you note\, crafting a resume\, and more to prepare the workforce of tomorrow. There are multiple opportunities for businesses and volunteers to get involved in this great event. Visit www.wfswct.org/wow or email careered@workforcesystem.org for details!
X-ALT-DESC;FMTTYPE=text/html:Join Workforce Solutions of West Central Texas for the 2022 World of Work (WOW) Youth Expo\, where students in 9th-12th grade explore\, connect\, and engage with employers and organizations to learn about various types of careers in West Central Texas. Many exhibits offer a behind-the-scenes look at the equipment\, materials\, and processes real employees use on-the-job. The event also includes an engaging keynote speaker and workforce readiness activities like mock interviews\, how-to tie a tie\, writing a thank you note\, crafting a resume\, and more to prepare the workforce of tomorrow. There are multiple opportunities for businesses and volunteers to get involved in this great event. Visit www.wfswct.org/wow or email careered@workforcesystem.org for details!
LOCATION:Abilene Convention Center 1100 N. 6th St. Abilene\, Texas 79601
UID:e.3433.4782
SEQUENCE:3
DTSTAMP:20260425T143227Z
URL:https://business.abilenechamber.com/events/details/world-of-work-wow-youth-expo-4782
END:VEVENT

END:VCALENDAR
