BEGIN:VCALENDAR
VERSION:2.0
PRODID:-//ChamberMaster//Event Calendar 2.0//EN
METHOD:PUBLISH
X-PUBLISHED-TTL:P3D
REFRESH-INTERVAL:P3D
CALSCALE:GREGORIAN
BEGIN:VEVENT
DTSTART:20220525T190000Z
DTEND:20220525T200000Z
X-MICROSOFT-CDO-ALLDAYEVENT:FALSE
SUMMARY:Virtual Training | Adobe Acrobat: Reader\, Standard\, & Pro
DESCRIPTION:In this 60-minute session\, we will explore the similarities and differences of Adobe Reader\, Adobe Standard and Adobe Pro. We will demonstrate how to save\, create and combine files as a PDF\, work with forms and signatures. You will walk away from this session with a clear understanding of how these programs can enhance efficiency at your organization. Register here: https://register.gotowebinar.com/register/6375471317472189453
X-ALT-DESC;FMTTYPE=text/html:In this 60-minute session\, we will explore the similarities and differences of Adobe Reader\, Adobe Standard and Adobe Pro. We will demonstrate how to save\, create and combine files as a PDF\, work with forms and signatures. You will walk away from this session with a clear understanding of how these programs can enhance efficiency at your organization. Register here: https://register.gotowebinar.com/register/6375471317472189453
LOCATION:Online
UID:e.3433.4675
SEQUENCE:3
DTSTAMP:20260425T184716Z
URL:https://business.abilenechamber.com/events/details/virtual-training-adobe-acrobat-reader-standard-pro-4675
END:VEVENT

END:VCALENDAR
