BEGIN:VCALENDAR
VERSION:2.0
PRODID:-//ChamberMaster//Event Calendar 2.0//EN
METHOD:PUBLISH
X-PUBLISHED-TTL:P3D
REFRESH-INTERVAL:P3D
CALSCALE:GREGORIAN
BEGIN:VEVENT
DTSTART:20220610T160000Z
DTEND:20220610T170000Z
X-MICROSOFT-CDO-ALLDAYEVENT:FALSE
SUMMARY:Touching Hearts at Home - 5 Year Anniversary & New Member Ribbon Cutting Rescheduled
DESCRIPTION:
X-ALT-DESC;FMTTYPE=text/html:
LOCATION:3926 S Treadaway\, A-1 Abilene\, Texas 79602
UID:e.3433.4696
SEQUENCE:3
DTSTAMP:20260425T173230Z
URL:https://business.abilenechamber.com/events/details/touching-hearts-at-home-5-year-anniversary-new-member-ribbon-cutting-rescheduled-4696
END:VEVENT

END:VCALENDAR
