BEGIN:VCALENDAR
VERSION:2.0
PRODID:-//ChamberMaster//Event Calendar 2.0//EN
METHOD:PUBLISH
X-PUBLISHED-TTL:P3D
REFRESH-INTERVAL:P3D
CALSCALE:GREGORIAN
BEGIN:VEVENT
DTSTART:20220404T180000Z
DTEND:20220404T230000Z
X-MICROSOFT-CDO-ALLDAYEVENT:FALSE
SUMMARY:Torchy's Tacos Blood Drive
DESCRIPTION:Donate Blood and Save a Life! Join us at Torchy's Tacos Monday April 4th from 1pm-6pm for our mobile blood drive partnering with Hendrick Regional Blood Center. All donors will receive a $5 Burn Card to use at Torchy's Tacos & all will be entered in a drawing for a $100 Gift Card to Torchy's Tacos!!
X-ALT-DESC;FMTTYPE=text/html:Donate Blood and Save a Life! Join us at Torchy&#39\;s Tacos Monday April 4th from 1pm-6pm for our mobile blood drive partnering with Hendrick Regional Blood Center. All donors will receive a $5 Burn Card to use at Torchy&#39\;s Tacos &amp\; all will be entered in a drawing for a $100 Gift Card to Torchy&#39\;s Tacos!!
LOCATION:3765 Catclaw Drive Abilene\, Texas 79606
UID:e.3433.4648
SEQUENCE:3
DTSTAMP:20260425T201313Z
URL:https://business.abilenechamber.com/events/details/torchy-s-tacos-blood-drive-4648
END:VEVENT

END:VCALENDAR
