BEGIN:VCALENDAR
VERSION:2.0
PRODID:-//ChamberMaster//Event Calendar 2.0//EN
METHOD:PUBLISH
X-PUBLISHED-TTL:P3D
REFRESH-INTERVAL:P3D
CALSCALE:GREGORIAN
BEGIN:VEVENT
DTSTART:20210731T130000Z
DTEND:20210801T020000Z
X-MICROSOFT-CDO-ALLDAYEVENT:FALSE
SUMMARY:TLCA Booster Club Golf Tournament
DESCRIPTION:TLCA Athletic Booster Club is hosting a golf tournament at Tin Cup Country club in Merkel. TLCA Abilene Athletic Boosters will be hosting a golf tournament on July 31st at Tin Cup Country Club in Merkel Texas. 4-Person Scramble ?? 300 Per Team (this includes meal and cart) or ?? 200 Sponsorship Mulligan Package (unlimited usage) $20 Prizes for 1st\, 2nd\, 3rd\, and Last Place!!!! Chipping and Putting contest!!! Closet to pin (men and women's) and Longest drive!!! For more information please contact Audra Shim or myself!!! Sponsorship Form:https://forms.gle/eD54AmgKHswVS2Ed9 Registration Form: https://forms.gle/T2UFnbtNGM6wnBmA7
X-ALT-DESC;FMTTYPE=text/html:TLCA Athletic Booster Club is hosting a golf tournament at Tin Cup Country club in Merkel. TLCA Abilene Athletic Boosters will be hosting a golf tournament on July 31st at Tin Cup Country Club in Merkel Texas. 4-Person Scramble ?? 300 Per Team (this includes meal and cart) or ?? 200 Sponsorship Mulligan Package (unlimited usage) $20 Prizes for 1st\, 2nd\, 3rd\, and Last Place!!!! Chipping and Putting contest!!! Closet to pin (men and women&rsquo\;s) and Longest drive!!! For more information please contact Audra Shim or myself!!! Sponsorship Form:https://forms.gle/eD54AmgKHswVS2Ed9 Registration Form: https://forms.gle/T2UFnbtNGM6wnBmA7
LOCATION:Tin Cup Country Club\, Merkel Texas
UID:e.3433.4408
SEQUENCE:3
DTSTAMP:20260423T223718Z
URL:https://business.abilenechamber.com/events/details/tlca-booster-club-golf-tournament-4408
END:VEVENT

END:VCALENDAR
