BEGIN:VCALENDAR
VERSION:2.0
PRODID:-//ChamberMaster//Event Calendar 2.0//EN
METHOD:PUBLISH
X-PUBLISHED-TTL:P3D
REFRESH-INTERVAL:P3D
CALSCALE:GREGORIAN
BEGIN:VEVENT
DTSTART;VALUE=DATE:20210805
DTEND;VALUE=DATE:20210807
TRANSP:TRANSPARENT
X-MICROSOFT-CDO-ALLDAYEVENT:TRUE
SUMMARY:The Global Leadership Summit (Simulcast)
DESCRIPTION:YOU HAVE INFLUENCE\n\n... And Your Leadership Health Matters\n\n\n\nJoin hundreds of thousands of curious\, growth-minded\, change-driven men and women like you for the premier leadership event of 2021 - The Global Leadership Summit.  The local host site is the Abilene First Church of the Nazarene where you will experience two days of rich\, high-impact\, inspiring sessions and learn from a diverse faculty who will share their wisdom and practical perspective to support you in your leadership growth.\n\n\n\nhttps://globalleadership.org/global-leadership-summit/
X-ALT-DESC;FMTTYPE=text/html:<span style="color:#A52A2A"><strong><span style="font-size:18px">YOU HAVE INFLUENCE</span></strong></span><br />\n<strong><span style="font-size:14px">... And Your Leadership Health Matters</span></strong><br />\n<br />\nJoin hundreds of thousands of curious\, growth-minded\, change-driven men and women like you for the premier leadership event of 2021 - The Global Leadership Summit.&nbsp\; The local host site is the Abilene First Church of the Nazarene where you will experience two days of rich\, high-impact\, inspiring sessions and learn from a diverse faculty who will share their wisdom and practical perspective to support you in your leadership growth.<br />\n<br />\n<a href="https://globalleadership.org/global-leadership-summit/">https://globalleadership.org/global-leadership-summit/</a>
LOCATION:Abilene First Church of the Nazarene is hosting the Simulcast in the Abilene area. Our address is: 2849 Beltway South Abilene\, TX 79606 325-677-9429
UID:e.3433.4422
SEQUENCE:3
DTSTAMP:20260423T234415Z
URL:https://business.abilenechamber.com/events/details/the-global-leadership-summit-simulcast-4422
END:VEVENT

END:VCALENDAR
