BEGIN:VCALENDAR
VERSION:2.0
PRODID:-//ChamberMaster//Event Calendar 2.0//EN
METHOD:PUBLISH
X-PUBLISHED-TTL:P3D
REFRESH-INTERVAL:P3D
CALSCALE:GREGORIAN
BEGIN:VEVENT
DTSTART:20191102T150000Z
DTEND:20191102T220000Z
X-MICROSOFT-CDO-ALLDAYEVENT:FALSE
SUMMARY:The Discovery Center's 3rd Annual International Creation Day
DESCRIPTION:Celebrating God's Wonderful Creation with Booths\, Food\, Live Speakers\, Petting Zoo\, Face Painting\, Art Contest for all ages and see all of our Exhibits.
X-ALT-DESC;FMTTYPE=text/html:<table border="0" cellpadding="0" cellspacing="0" style="width:100.0%\;background:white\;" width="100%">\n	<tbody>\n		<tr>\n			<td style="padding:3.75pt 3.75pt 3.75pt 3.75pt\;"><span style="font-family:arial\,sans-serif\;"><span style="font-size:9.0pt\;">Celebrating God&#39\;s Wonderful Creation with Booths\, Food\, Live Speakers\, Petting Zoo\, Face Painting\, Art Contest for all ages and see all of our Exhibits.</span></span></td>\n		</tr>\n	</tbody>\n</table>\n
LOCATION:810 Butternut St.
UID:e.3433.3783
SEQUENCE:3
DTSTAMP:20260423T145538Z
URL:https://business.abilenechamber.com/events/details/the-discovery-center-s-3rd-annual-international-creation-day-3783
END:VEVENT

END:VCALENDAR
