BEGIN:VCALENDAR
VERSION:2.0
PRODID:-//ChamberMaster//Event Calendar 2.0//EN
METHOD:PUBLISH
X-PUBLISHED-TTL:P3D
REFRESH-INTERVAL:P3D
CALSCALE:GREGORIAN
BEGIN:VEVENT
DTSTART:20190930T210000Z
DTEND:20190930T220000Z
X-MICROSOFT-CDO-ALLDAYEVENT:FALSE
SUMMARY:The Chamber in 60 - Member Orientation - September 30\, 2019
DESCRIPTION:Learn more about your Chamber with this one hour overview. Meet staff and Board members.
X-ALT-DESC;FMTTYPE=text/html:<span style="color: rgb(51\, 51\, 51)\; font-family: sans-serif\, Arial\, Verdana\, &quot\;Trebuchet MS&quot\;\; font-size: 13px\; background-color: rgb(255\, 255\, 255)\;">Learn more about your Chamber with this one hour overview. Meet staff and Board members.</span>
LOCATION:Chamber Board Room 174 Cypress St.\, Ste 200
UID:e.3433.3771
SEQUENCE:3
DTSTAMP:20260423T183635Z
URL:https://business.abilenechamber.com/events/details/the-chamber-in-60-member-orientation-september-30-2019-3771
END:VEVENT

END:VCALENDAR
