BEGIN:VCALENDAR
VERSION:2.0
PRODID:-//ChamberMaster//Event Calendar 2.0//EN
METHOD:PUBLISH
X-PUBLISHED-TTL:P3D
REFRESH-INTERVAL:P3D
CALSCALE:GREGORIAN
BEGIN:VEVENT
DTSTART:20221013T230000Z
DTEND:20221014T010000Z
X-MICROSOFT-CDO-ALLDAYEVENT:FALSE
SUMMARY:The Big Cheese
DESCRIPTION:Big Brothers Big Sisters is excited to host The 5th Annual Big Cheese! Local chefs will be serving up their take on mac & cheese at this family-friendly event and each guest will play a part by voting for their favorite dish. People's\, Kids' and Judges' Choice award winners will be announced with the overall winner being named "The Big Cheese".
X-ALT-DESC;FMTTYPE=text/html:Big Brothers Big Sisters is excited to host The 5th Annual Big Cheese! Local chefs will be serving up their take on mac &amp\; cheese at this family-friendly event and each guest will play a part by voting for their favorite dish. People&rsquo\;s\, Kids&#39\; and Judges&rsquo\; Choice award winners will be announced with the overall winner being named &ldquo\;The Big Cheese&quot\;.
LOCATION:Abilene Convention Center
UID:e.3433.4778
SEQUENCE:3
DTSTAMP:20260425T130449Z
URL:https://business.abilenechamber.com/events/details/the-big-cheese-10-13-2022-4778
END:VEVENT

END:VCALENDAR
