BEGIN:VCALENDAR
VERSION:2.0
PRODID:-//ChamberMaster//Event Calendar 2.0//EN
METHOD:PUBLISH
X-PUBLISHED-TTL:P3D
REFRESH-INTERVAL:P3D
CALSCALE:GREGORIAN
BEGIN:VEVENT
DTSTART:20220620T163000Z
DTEND:20220620T173000Z
X-MICROSOFT-CDO-ALLDAYEVENT:FALSE
SUMMARY:The Art of the Phish
DESCRIPTION:At some point\, we've all been the target of a phishing scam the suspicious emails that appear to be from a known sender but in actuality come from a scammer requesting that you click a link\, open an attachment\, or provide personal information\, ultimately giving the scammer unwanted access to private information. While some of these scams are easily identified\, the art of phishing continues to evolve as does technology. With the multitude of devices becoming more and more prevalent\, the risk of falling victim to a phishing scam is increasing. Education is one of the top solutions to protecting your people and organization from phishing. Join us to learn what steps to take to remain protected. Learning Objectives: Define phishing. Identify common scam tactics. Analyze potential risks. Discuss steps to protection\, including employee education. Explore real world scenarios. CPE Information: CPE Credit: 1 Field of Study: Information Technology Level of Knowledge: Basic Delivery Method: Group-Internet Based Additional Information: This is a Group-Internet Based Webinar. No prerequisites or advanced preparation required. For information regarding a complaint and/or program cancellation policies\, please contact Amy DeGeorge.
X-ALT-DESC;FMTTYPE=text/html:At some point\, we&#39\;ve all been the target of a phishing scam&mdash\;the suspicious emails that appear to be from a known sender but in actuality come from a scammer requesting that you click a link\, open an attachment\, or provide personal information\, ultimately giving the scammer unwanted access to private information. While some of these scams are easily identified\, the art of phishing continues to evolve as does technology. With the multitude of devices becoming more and more prevalent\, the risk of falling victim to a phishing scam is increasing. Education is one of the top solutions to protecting your people and organization from phishing. Join us to learn what steps to take to remain protected. Learning Objectives: Define phishing. Identify common scam tactics. Analyze potential risks. Discuss steps to protection\, including employee education. Explore real world scenarios. CPE Information: CPE Credit: 1 Field of Study: Information Technology Level of Knowledge: Basic Delivery Method: Group-Internet Based Additional Information: This is a Group-Internet Based Webinar. No prerequisites or advanced preparation required. For information regarding a complaint and/or program cancellation policies\, please contact Amy DeGeorge.
LOCATION:Online webinar
UID:e.3433.4688
SEQUENCE:3
DTSTAMP:20260425T172458Z
URL:https://business.abilenechamber.com/events/details/the-art-of-the-phish-4688
END:VEVENT

END:VCALENDAR
