BEGIN:VCALENDAR
VERSION:2.0
PRODID:-//ChamberMaster//Event Calendar 2.0//EN
METHOD:PUBLISH
X-PUBLISHED-TTL:P3D
REFRESH-INTERVAL:P3D
CALSCALE:GREGORIAN
BEGIN:VEVENT
DTSTART:20210809T153000Z
DTEND:20210809T163000Z
X-MICROSOFT-CDO-ALLDAYEVENT:FALSE
SUMMARY:Texas Leadership of Abilene (TLCA) Secondary Campus
DESCRIPTION:Join us for a Ribbon Cutting Ceremony\, celebrating the Grand Opening of TLCA Abilene's brand new Secondary Campus. This campus will be home to their 6th-12th grade students and will expand opportunites in education. Let's help them celebrate GROWTH and all that the 2021-2022 school year will bring.
X-ALT-DESC;FMTTYPE=text/html:Join us for a Ribbon Cutting Ceremony\, celebrating the Grand Opening of TLCA Abilene&#39\;s brand new Secondary Campus. This campus will be home to their 6th-12th grade students and will expand opportunites in education. Let&#39\;s help them celebrate GROWTH and all that the 2021-2022 school year will bring.
LOCATION:3250 State Street (old YMCA) Abilene\, Texas 79603
UID:e.3433.4434
SEQUENCE:3
DTSTAMP:20260423T235125Z
URL:https://business.abilenechamber.com/events/details/texas-leadership-of-abilene-tlca-secondary-campus-4434
END:VEVENT

END:VCALENDAR
