BEGIN:VCALENDAR
VERSION:2.0
PRODID:-//ChamberMaster//Event Calendar 2.0//EN
METHOD:PUBLISH
X-PUBLISHED-TTL:P3D
REFRESH-INTERVAL:P3D
CALSCALE:GREGORIAN
BEGIN:VEVENT
DTSTART:20220522T193000Z
DTEND:20220522T201500Z
X-MICROSOFT-CDO-ALLDAYEVENT:FALSE
SUMMARY:Sunday Fun Day
DESCRIPTION:Your weekend just got better! Join the Abilene Public Library South Branch for Sunday Fun Day hosted on the fourth Sunday each month. Located at Women's Dillard's Courtyard. Each month\, an hour-long session will feature a different activity such as crafts\, experiments\, story times\, or guest visitors. At this session\, we'll provide you with the plain coffee filters and markers and show you how to turn them into beautiful butterflies! Don't miss out on this fun\, free\, come-and-go event\, and we'll see y'all there!
X-ALT-DESC;FMTTYPE=text/html:Your weekend just got better! Join the Abilene Public Library South Branch for Sunday Fun Day hosted on the fourth Sunday each month. Located at Women&rsquo\;s Dillard&rsquo\;s Courtyard. Each month\, an hour-long session will feature a different activity such as crafts\, experiments\, story times\, or guest visitors. At this session\, we&rsquo\;ll provide you with the plain coffee filters and markers and show you how to turn them into beautiful butterflies! Don&rsquo\;t miss out on this fun\, free\, come-and-go event\, and we&rsquo\;ll see y&rsquo\;all there!
LOCATION:Mall of Abilene\, Women's Dillard's Courtyard
UID:e.3433.4674
SEQUENCE:3
DTSTAMP:20260425T184853Z
URL:https://business.abilenechamber.com/events/details/sunday-fun-day-05-22-2022-4674
END:VEVENT

END:VCALENDAR
