BEGIN:VCALENDAR
VERSION:2.0
PRODID:-//ChamberMaster//Event Calendar 2.0//EN
METHOD:PUBLISH
X-PUBLISHED-TTL:P3D
REFRESH-INTERVAL:P3D
CALSCALE:GREGORIAN
BEGIN:VEVENT
DTSTART:20241108T160000Z
DTEND:20241108T170000Z
X-MICROSOFT-CDO-ALLDAYEVENT:FALSE
SUMMARY:Seniors - Veterans Appreciation Breakfast
DESCRIPTION:Veterans Appreciation Breakfast Join us at Rose Park Senior Center in Room B! Appreciation Pins will be given to Veterans. Breakfast provided by Paradigm Health. Details   Day: Friday   Date: November 8\, 2024   Time: 10 AM   11 AM   Location: Rose Park Senior Center   Room: Room B   Address: 2625 S 7th St   Age Restriction: Ages 55+   Cost: Standard meal costs apply. Call (325) 734-5300 or visit us online at www.abileneparksandrec.com to learn more.
X-ALT-DESC;FMTTYPE=text/html:Veterans Appreciation Breakfast Join us at Rose Park Senior Center in Room B! Appreciation Pins will be given to Veterans. Breakfast provided by Paradigm Health. Details &bull\; Day: Friday &bull\; Date: November 8\, 2024 &bull\; Time: 10 AM &mdash\; 11 AM &bull\; Location: Rose Park Senior Center &bull\; Room: Room B &bull\; Address: 2625 S 7th St &bull\; Age Restriction: Ages 55+ &bull\; Cost: Standard meal costs apply. Call (325) 734-5300 or visit us online at www.abileneparksandrec.com to learn more.
LOCATION:Location: Rose Park Senior Center Room: Room B Address: 2625 S 7th St
UID:e.3433.5456
SEQUENCE:3
DTSTAMP:20260423T110031Z
URL:https://business.abilenechamber.com/events/details/seniors-veterans-appreciation-breakfast-11-08-2024-5456
END:VEVENT

END:VCALENDAR
