BEGIN:VCALENDAR
VERSION:2.0
PRODID:-//ChamberMaster//Event Calendar 2.0//EN
METHOD:PUBLISH
X-PUBLISHED-TTL:P3D
REFRESH-INTERVAL:P3D
CALSCALE:GREGORIAN
BEGIN:VEVENT
DTSTART:20241119T200000Z
DTEND:20241120T000000Z
X-MICROSOFT-CDO-ALLDAYEVENT:FALSE
SUMMARY:Seniors - Thankful Karaoke
DESCRIPTION:Thankful Karaoke Come & sing songs of appreciation & thankfulness! Feel free to bring your store-bought goodies & treats. Details   Day: Tuesday   Date: November 19\, 2024   Time: 2:00 PM   6:00 PM   Location: Rose Park Senior Center   Room: Dining Room   Address: 2625 S 7th St   Age Restriction: Ages 55+   Cost: FREE! Call (325) 734-5300 or visit us online at www.abileneparksandrec.com to learn more.
X-ALT-DESC;FMTTYPE=text/html:Thankful Karaoke Come &amp\; sing songs of appreciation &amp\; thankfulness! Feel free to bring your store-bought goodies &amp\; treats. Details &bull\; Day: Tuesday &bull\; Date: November 19\, 2024 &bull\; Time: 2:00 PM &mdash\; 6:00 PM &bull\; Location: Rose Park Senior Center &bull\; Room: Dining Room &bull\; Address: 2625 S 7th St &bull\; Age Restriction: Ages 55+ &bull\; Cost: FREE! Call (325) 734-5300 or visit us online at www.abileneparksandrec.com to learn more.
LOCATION:Rose Park Senior Center 2625 S 7th St Abilene TX 79605 United States of America
UID:e.3433.5450
SEQUENCE:3
DTSTAMP:20260423T105540Z
URL:https://business.abilenechamber.com/events/details/seniors-thankful-karaoke-5450
END:VEVENT

END:VCALENDAR
