BEGIN:VCALENDAR
VERSION:2.0
PRODID:-//ChamberMaster//Event Calendar 2.0//EN
METHOD:PUBLISH
X-PUBLISHED-TTL:P3D
REFRESH-INTERVAL:P3D
CALSCALE:GREGORIAN
BEGIN:VEVENT
DTSTART:20210324T190000Z
DTEND:20210324T200000Z
X-MICROSOFT-CDO-ALLDAYEVENT:FALSE
SUMMARY:Security Awareness
DESCRIPTION:Did you know your team is your first line of defense when it comes to your business's cybersecurity? Learn how to boost your defenses by training your team on Security Awareness. This virtual webinar is free and open to the public.
X-ALT-DESC;FMTTYPE=text/html:Did you know your team is your first line of defense when it comes to your business&rsquo\;s cybersecurity? Learn how to boost your defenses by training your team on Security Awareness. This virtual webinar is free and open to the public.
LOCATION:Virtual Event: https://us02web.zoom.us/webinar/register/WN_8gginSyvQE6Bd0gyJgMkAg
UID:e.3433.4126
SEQUENCE:3
DTSTAMP:20260423T172754Z
URL:https://business.abilenechamber.com/events/details/security-awareness-4126
END:VEVENT

END:VCALENDAR
