BEGIN:VCALENDAR
VERSION:2.0
PRODID:-//ChamberMaster//Event Calendar 2.0//EN
METHOD:PUBLISH
X-PUBLISHED-TTL:P3D
REFRESH-INTERVAL:P3D
CALSCALE:GREGORIAN
BEGIN:VEVENT
DTSTART:20230506T190000Z
DTEND:20230506T220000Z
X-MICROSOFT-CDO-ALLDAYEVENT:FALSE
SUMMARY:SAVOR 2023 Taste Tour
DESCRIPTION:SAVOR 2023- The Taste Tour at Allen Ridge Join us for an afternoon of delicious food and drinks at our relaxing outdoor venue. Come get a taste of what the restaurants at Allen Ridge have to offer. Proceeds from the event will benefit the Food Bank of West Central Texas which helps individuals\, families\, children and seniors get access to food. Twisted Root Bahama Bucks Phoenix Pho Cork & Pig Tavern Summer Moon Coffee Fuzzy's Taco Shop
X-ALT-DESC;FMTTYPE=text/html:SAVOR 2023- The Taste Tour at Allen Ridge Join us for an afternoon of delicious food and drinks at our relaxing outdoor venue. Come get a taste of what the restaurants at Allen Ridge have to offer. Proceeds from the event will benefit the Food Bank of West Central Texas which helps individuals\, families\, children and seniors get access to food. Twisted Root Bahama Bucks Phoenix Pho Cork &amp\; Pig Tavern Summer Moon Coffee Fuzzy&#39\;s Taco Shop
LOCATION:Allen Ridge
UID:e.3433.4950
SEQUENCE:3
DTSTAMP:20260424T000528Z
URL:https://business.abilenechamber.com/events/details/savor-2023-taste-tour-4950
END:VEVENT

END:VCALENDAR
