BEGIN:VCALENDAR
VERSION:2.0
PRODID:-//ChamberMaster//Event Calendar 2.0//EN
METHOD:PUBLISH
X-PUBLISHED-TTL:P3D
REFRESH-INTERVAL:P3D
CALSCALE:GREGORIAN
BEGIN:VEVENT
DTSTART:20221027T200000Z
DTEND:20221027T210000Z
X-MICROSOFT-CDO-ALLDAYEVENT:FALSE
SUMMARY:Renovation Courtyard Marriott/TownePlace Suites Abilene Northeast
DESCRIPTION:
X-ALT-DESC;FMTTYPE=text/html:
LOCATION:2141 Scottish Road Abilene\, TX 79601
UID:e.3433.4816
SEQUENCE:3
DTSTAMP:20260425T114726Z
URL:https://business.abilenechamber.com/events/details/renovation-courtyard-marriott-towneplace-suites-abilene-northeast-4816
END:VEVENT

END:VCALENDAR
