BEGIN:VCALENDAR
VERSION:2.0
PRODID:-//ChamberMaster//Event Calendar 2.0//EN
METHOD:PUBLISH
X-PUBLISHED-TTL:P3D
REFRESH-INTERVAL:P3D
CALSCALE:GREGORIAN
BEGIN:VEVENT
DTSTART:20221021T150000Z
DTEND:20221021T160000Z
X-MICROSOFT-CDO-ALLDAYEVENT:FALSE
SUMMARY:Renaming Ceremony for Lee Park to Coach James Valentine Park
DESCRIPTION:
X-ALT-DESC;FMTTYPE=text/html:
LOCATION:1317 N. Pioneer Drive Abilene\, TX
UID:e.3433.4815
SEQUENCE:3
DTSTAMP:20260425T114910Z
URL:https://business.abilenechamber.com/events/details/renaming-ceremony-for-lee-park-to-coach-james-valentine-park-4815
END:VEVENT

END:VCALENDAR
