BEGIN:VCALENDAR
VERSION:2.0
PRODID:-//ChamberMaster//Event Calendar 2.0//EN
METHOD:PUBLISH
X-PUBLISHED-TTL:P3D
REFRESH-INTERVAL:P3D
CALSCALE:GREGORIAN
BEGIN:VEVENT
DTSTART:20191108T200000Z
DTEND:20191108T210000Z
X-MICROSOFT-CDO-ALLDAYEVENT:FALSE
SUMMARY:Relocation & Ribbon Cutting - Perkins Insurance
DESCRIPTION:
X-ALT-DESC;FMTTYPE=text/html:
LOCATION:749 Gateway St.\, Building E\, Ste. 501 Abilene\, TX 79602
UID:e.3433.3801
SEQUENCE:3
DTSTAMP:20260423T144524Z
URL:https://business.abilenechamber.com/events/details/relocation-ribbon-cutting-perkins-insurance-3801
END:VEVENT

END:VCALENDAR
