BEGIN:VCALENDAR
VERSION:2.0
PRODID:-//ChamberMaster//Event Calendar 2.0//EN
METHOD:PUBLISH
X-PUBLISHED-TTL:P3D
REFRESH-INTERVAL:P3D
CALSCALE:GREGORIAN
BEGIN:VEVENT
DTSTART:20210720T180000Z
DTEND:20210720T190000Z
X-MICROSOFT-CDO-ALLDAYEVENT:FALSE
SUMMARY:R&D Tax Incentives: Are you leaving money on the table?
DESCRIPTION:If your company is investing in innovation and working to stay competitive through improved or new products or services\, you could qualify for a Research and Development Tax Credit. Join us to learn more about qualifying activities\, benefiting from the credit\, our process for helping clients earn the credit and a few case studies of how clients have used the credit in the past. Learning Objectives: Review qualifying R&D activities Outline benefits of the R&D tax credit Explore case studies of clients who have benefited from the R&D tax credit Presenters: Jim Donovan\, CPA\, Partner | Eide Bailly Jim has 20 years of tax consulting experience primarily focused on tax credits for a variety of industries. He helps clients benefit from federal and state R&D tax incentives\, which can include additional deductions and credits for activities many businesses simply consider a necessity to remain competitive in today's marketplace. He also provides assistance with IRS and state taxing authorities to support R&D credit claims and has written articles on tax incentives. Joe Stoddard\, CPA\, Partner-In-Charge of R&D Tax Incentives | Eide Bailly Joe has more than 20 years of tax consulting experience providing services to a variety of industries. He helps clients benefit from R&D tax incentives (including federal and state credits) and regularly works with the IRS and state taxing authorities to support R&D tax incentives claims. He is a sought-after R&D tax incentive resource\, having written numerous articles and facilitated many presentations on the topic. CPE Information CPE Credit: 1 Field of Study: Taxes Level of Knowledge: Overview Delivery Method: Group-Internet Based
X-ALT-DESC;FMTTYPE=text/html:If your company is investing in innovation and working to stay competitive through improved or new products or services\, you could qualify for a Research and Development Tax Credit. Join us to learn more about qualifying activities\, benefiting from the credit\, our process for helping clients earn the credit and a few case studies of how clients have used the credit in the past. Learning Objectives: Review qualifying R&amp\;D activities Outline benefits of the R&amp\;D tax credit Explore case studies of clients who have benefited from the R&amp\;D tax credit Presenters: Jim Donovan\, CPA\, Partner | Eide Bailly Jim has 20 years of tax consulting experience primarily focused on tax credits for a variety of industries. He helps clients benefit from federal and state R&amp\;D tax incentives\, which can include additional deductions and credits for activities many businesses simply consider a necessity to remain competitive in today&#39\;s marketplace. He also provides assistance with IRS and state taxing authorities to support R&amp\;D credit claims and has written articles on tax incentives. Joe Stoddard\, CPA\, Partner-In-Charge of R&amp\;D Tax Incentives | Eide Bailly Joe has more than 20 years of tax consulting experience providing services to a variety of industries. He helps clients benefit from R&amp\;D tax incentives (including federal and state credits) and regularly works with the IRS and state taxing authorities to support R&amp\;D tax incentives claims. He is a sought-after R&amp\;D tax incentive resource\, having written numerous articles and facilitated many presentations on the topic. CPE Information CPE Credit: 1 Field of Study: Taxes Level of Knowledge: Overview Delivery Method: Group-Internet Based
LOCATION:Online webinar
UID:e.3433.4417
SEQUENCE:3
DTSTAMP:20260423T235532Z
URL:https://business.abilenechamber.com/events/details/r-d-tax-incentives-are-you-leaving-money-on-the-table-4417
END:VEVENT

END:VCALENDAR
