BEGIN:VCALENDAR
VERSION:2.0
PRODID:-//ChamberMaster//Event Calendar 2.0//EN
METHOD:PUBLISH
X-PUBLISHED-TTL:P3D
REFRESH-INTERVAL:P3D
CALSCALE:GREGORIAN
BEGIN:VEVENT
DTSTART:20250129T173000Z
DTEND:20250129T190000Z
X-MICROSOFT-CDO-ALLDAYEVENT:FALSE
SUMMARY:Quarterly Ag Luncheon 1.29.25
DESCRIPTION:This networking luncheon is a great opportunity for you to connect with other business owners and community leaders while also learning more about the importance of agriculture in our region. Bring a friend or two and see what all the excitement is about with our ag lunches!\n\n\n\nWe will be hearing from Crissy Ward\, Owner of Sadie Grace Farms\, LLC and part of the Big Country Beekeepers Association. Crissy will share with us about bees\, why we need them and much more.
X-ALT-DESC;FMTTYPE=text/html:<div style="font-family: Tahoma\, sans-serif\;">\n<div style="padding-bottom: 4px\;"><span style="font-family:arial\;"><span style="font-size:16px\;">This networking luncheon is a great opportunity for you to connect with other business owners and community leaders while also learning more about the importance of agriculture in our region. Bring a friend or two and see what all the excitement is about with our ag lunches!<br />\n<br />\nWe will be hearing from Crissy Ward\, Owner of Sadie Grace Farms\, LLC and part of the Big Country Beekeepers Association. Crissy will share with us about bees\, why we need them and much more.</span></span><br />\n&nbsp\;</div>\n</div>\n
LOCATION:Grain Theory 202 Pine Street\, Ste. 201 Abilene\, TX 79601
UID:e.3433.5497
SEQUENCE:3
DTSTAMP:20260423T145404Z
URL:https://business.abilenechamber.com/events/details/quarterly-ag-luncheon-1-29-25-5497
END:VEVENT

END:VCALENDAR
