BEGIN:VCALENDAR
VERSION:2.0
PRODID:-//ChamberMaster//Event Calendar 2.0//EN
METHOD:PUBLISH
X-PUBLISHED-TTL:P3D
REFRESH-INTERVAL:P3D
CALSCALE:GREGORIAN
BEGIN:VEVENT
DTSTART:20210825T140000Z
DTEND:20210825T150000Z
X-MICROSOFT-CDO-ALLDAYEVENT:FALSE
SUMMARY:One Million Cups
DESCRIPTION:Are you an entrepreneur? Are you searching for a way to connect with other entrepreneurs to discover solutions for your small business needs? The Abilene Chamber of Commerce and McMurry University Center for Free Enterprise and Entrepreneurship are excited to bring the Abilene community - 1 Million Cups!\n\n\n\nStarted by the Ewing Marion Kauffman Foundation\, 1 Million Cups is a free program designed to educate\, engage and inspire entrepreneurs over coffee.\n\n\n\nEach month there will be a 20-minute presentation from a local entrepreneur who will present their business. The remaining 40 minutes of the event will be dedicated to informal networking with other entrepreneurs and students.\n\n\n\nThis is a great opportunity to discuss common problems\, and potential solutions all entrepreneurs may face. This might be a great opportunity to market your work and brainstorm further. If you have a big idea and you're wanting to bring it to life - this is the place for you!\n\n\n\nAUG SPEAKER: \n\nSunshine Petrus Lifespark Homes - We are a small locally owned tiny home & small home builder located in Clyde Texas.  We have integrated our strong integrity\, values and work ethic into every home we build.  We believe that providing a high quality\, well built home is only a small part of managing a successful business.  We pride ourselves on the level of service and  satisfaction just as much as building quality homes. \n\n \n\nSimplifying your life for tiny living doesn't have to mean lowering your standards.  With our strategic craftsmanship along with luxury items throughout our homes\, your life doesn't have to be so simple.\n\n\n\n\n\nQuestions? Please click here.\n\n\n\nPlease note: This event is being photographed and/or videotaped and your image may be used in connection with the advertising and promotion of the Abilene Chamber of Commerce.
X-ALT-DESC;FMTTYPE=text/html:<span style="background:white\;"><span style="color:#333333\;"><span style="font-family:arial\,sans-serif\;"><span style="font-size:10.5pt\;">Are you an entrepreneur? Are you searching for a way to connect with other entrepreneurs to discover solutions for your small business needs?&nbsp\;</span></span></span></span><span style="color:#333333\;"><span style="font-family:arial\,sans-serif\;"><span style="font-size:10.5pt\;"><span style="font-variant-ligatures:normal\;font-variant-caps:normal\;orphans:2\;text-align:start\;widows:2\;-webkit-text-stroke-width:0px\;text-decoration-thickness:initial\;text-decoration-style:initial\;word-spacing:0px\;">The Abilene Chamber of Commerce and McMurry University Center for Free Enterprise and Entrepreneurship are excited to bring the Abilene community - 1 Million Cups!</span></span></span></span><br style="font-variant-ligatures:normal\;font-variant-caps:normal\;orphans:2\;text-align:start\;widows:2\;-webkit-text-stroke-width:0px\;text-decoration-thickness:initial\;text-decoration-style:initial\;word-spacing:0px\;" />\n<br style="font-variant-ligatures:normal\;font-variant-caps:normal\;orphans:2\;text-align:start\;widows:2\;-webkit-text-stroke-width:0px\;text-decoration-thickness:initial\;text-decoration-style:initial\;word-spacing:0px\;" />\n<span style="background:white\;"><span style="color:#333333\;"><span style="font-family:arial\,sans-serif\;"><span style="font-size:10.5pt\;"><span style="font-variant-ligatures:normal\;font-variant-caps:normal\;orphans:2\;text-align:start\;widows:2\;-webkit-text-stroke-width:0px\;text-decoration-thickness:initial\;text-decoration-style:initial\;word-spacing:0px\;">Started by the Ewing Marion Kauffman Foundation\, 1 Million Cups is a free program designed to educate\, engage and inspire entrepreneurs over coffee.</span></span></span></span></span><br style="font-variant-ligatures:normal\;font-variant-caps:normal\;orphans:2\;text-align:start\;widows:2\;-webkit-text-stroke-width:0px\;text-decoration-thickness:initial\;text-decoration-style:initial\;word-spacing:0px\;" />\n<br style="font-variant-ligatures:normal\;font-variant-caps:normal\;orphans:2\;text-align:start\;widows:2\;-webkit-text-stroke-width:0px\;text-decoration-thickness:initial\;text-decoration-style:initial\;word-spacing:0px\;" />\n<span style="background:white\;"><span style="color:#333333\;"><span style="font-family:arial\,sans-serif\;"><span style="font-size:10.5pt\;"><span style="font-variant-ligatures:normal\;font-variant-caps:normal\;orphans:2\;text-align:start\;widows:2\;-webkit-text-stroke-width:0px\;text-decoration-style:initial\;float:none\;word-spacing:0px\;"><span style="font-variant-ligatures:normal\;font-variant-caps:normal\;orphans:2\;text-align:start\;widows:2\;-webkit-text-stroke-width:0px\;text-decoration-thickness:initial\;text-decoration-style:initial\;word-spacing:0px\;">Each month there will be a 20-minute presentation from a local entrepreneur who will present their business. The remaining 40 minutes of the event will be dedicated to informal networking with other entrepreneurs and students.</span></span><br />\n<br />\n<span style="color:#333333\;"><span style="font-family:arial\,sans-serif\;"><span style="font-size:10.5pt\;"><span style="background:white\;">This is a great opportunity to discuss common problems\, and potential solutions all entrepreneurs may face. This might be a great opportunity to market your work and brainstorm further.&nbsp\;If you have a big idea and you&#39\;re wanting to bring it to life - this is the place for you!</span><br />\n<br />\n<span style="background:white\;"><strong>AUG SPEAKER:&nbsp\;</strong></span></span></span></span></span></span></span></span><br />\n<span style="font-size:12px\;"><span style="font-family:arial\;"><span style="color:#000000\;">Sunshine Petrus</span><span style="color:#1F497D\;">&nbsp\;</span><span style="color:#202124\;">Lifespark Homes - We are a small locally owned tiny home &amp\; small home builder located in Clyde Texas.&nbsp\; We have integrated our strong integrity\, values and work ethic into every home we build.&nbsp\; We believe that providing a high quality\, well built home is only a small part of managing a successful business.&nbsp\; We pride ourselves on the level of service and&nbsp\; satisfaction just as much as building quality homes.&nbsp\;</span><br />\n&nbsp\;<br />\n<span style="color:#202124\;">Simplifying your life for tiny living doesn&#39\;t have to mean lowering your standards.&nbsp\; With our strategic craftsmanship along with luxury items throughout our homes\, your life doesn&#39\;t have to be so simple.</span></span></span><br />\n<br />\n<br />\n<span style="background:white\;"><span style="color:#333333\;"><span style="font-family:arial\,sans-serif\;"><span style="font-size:10.5pt\;"><span style="color:#333333\;"><span style="font-family:arial\,sans-serif\;"><span style="font-size:10.5pt\;">Questions? Please&nbsp\;<a href="mailto:brent@abileneind.com?subject=One%20Million%20Cups"><span style="color:#0782C1\;">click here.</span></a></span></span></span></span></span></span></span><br style="font-variant-ligatures:normal\;font-variant-caps:normal\;orphans:2\;text-align:start\;widows:2\;-webkit-text-stroke-width:0px\;text-decoration-thickness:initial\;text-decoration-style:initial\;word-spacing:0px\;" />\n<br style="font-variant-ligatures:normal\;font-variant-caps:normal\;orphans:2\;text-align:start\;widows:2\;-webkit-text-stroke-width:0px\;text-decoration-thickness:initial\;text-decoration-style:initial\;word-spacing:0px\;" />\n<span style="background:white\;"><span style="color:#333333\;"><span style="font-family:arial\,sans-serif\;"><span style="font-size:7.0pt\;"><span style="font-variant-ligatures:normal\;font-variant-caps:normal\;orphans:2\;text-align:start\;widows:2\;-webkit-text-stroke-width:0px\;text-decoration-thickness:initial\;text-decoration-style:initial\;word-spacing:0px\;">Please note: This event is being photographed and/or videotaped and your image may be used in connection with the advertising and promotion of the Abilene Chamber of Commerce.</span></span></span></span></span>
LOCATION:The event is held the last Wednesday of every month. The event will be a hybrid event for the month of August. In person at the Chamber\, and via zoom for our friends that may not feel comfortable joining us in person. ZOOM INFO: Join Zoom Meeting https://us06web.zoom.us/j/87251911720 Meeting ID: 872 5191 1720 One tap mobile +19292056099\,\,87251911720# US (New York) +13017158592\,\,87251911720# US (Washington DC) Dial by your location +1 929 205 6099 US (New York) +1 301 715 8592 US (Washington DC) +1 312 626 6799 US (Chicago) +1 669 900 6833 US (San Jose) +1 253 215 8782 US (Tacoma) +1 346 248 7799 US (Houston) Meeting ID: 872 5191 1720 Find your local number: https://us06web.zoom.us/u/kdRl67jXhM
UID:e.3433.4158
SEQUENCE:3
DTSTAMP:20260423T234453Z
URL:https://business.abilenechamber.com/events/details/one-million-cups-08-25-2021-4158
END:VEVENT

END:VCALENDAR
