BEGIN:VCALENDAR
VERSION:2.0
PRODID:-//ChamberMaster//Event Calendar 2.0//EN
METHOD:PUBLISH
X-PUBLISHED-TTL:P3D
REFRESH-INTERVAL:P3D
CALSCALE:GREGORIAN
BEGIN:VEVENT
DTSTART:20220513T210000Z
DTEND:20220513T214500Z
X-MICROSOFT-CDO-ALLDAYEVENT:FALSE
SUMMARY:Once Upon a Storytime
DESCRIPTION:Join the Abilene Public Library South Branch Library for Once Upon a Storytime\, a magical story time session featuring a character visit from a fairytale princess who loves literature! Dress up like your favorite character and enjoy stories\, songs\, games\, and crafts at this special story time event. Picture opportunities\, with a meet and greet\, will follow at the end of the program. The whole family is invited to this fun\, free event so don't miss out on this magical experience.
X-ALT-DESC;FMTTYPE=text/html:Join the Abilene Public Library South Branch Library for Once Upon a Storytime\, a magical story time session featuring a character visit from a fairytale princess who loves literature! Dress up like your favorite character and enjoy stories\, songs\, games\, and crafts at this special story time event. Picture opportunities\, with a meet and greet\, will follow at the end of the program. The whole family is invited to this fun\, free event so don&rsquo\;t miss out on this magical experience.
LOCATION:Abilene Public Library South Branch - Children's Area
UID:e.3433.4671
SEQUENCE:3
DTSTAMP:20260425T201734Z
URL:https://business.abilenechamber.com/events/details/once-upon-a-storytime-4671
END:VEVENT

END:VCALENDAR
