BEGIN:VCALENDAR
VERSION:2.0
PRODID:-//ChamberMaster//Event Calendar 2.0//EN
METHOD:PUBLISH
X-PUBLISHED-TTL:P3D
REFRESH-INTERVAL:P3D
CALSCALE:GREGORIAN
BEGIN:VEVENT
DTSTART;VALUE=DATE:20210423
DTEND;VALUE=DATE:20210424
TRANSP:TRANSPARENT
X-MICROSOFT-CDO-ALLDAYEVENT:TRUE
SUMMARY:Noah Project Golf Tournament 2021
DESCRIPTION:Noah Project's annual Golf Tournament is on for 2021!\n\n\n\nAll proceeds from this event support the mission of Noah Project to empower victims to become survivors\, and working to end domestic violence and sexual assault. This includes free\, anonymous access to safe shelter\, advocacy\, legal and counseling services\, life skills training and outreach services.\n\n\n\n60 team spots available. Tee Times: 8:30 a.m. & 1:30 p.m. Team prizes for top three teams of each tee time. Giftbags include one dozen TaylorMade TP5 golf balls\, a silicone pint glass\, and other goodies.
X-ALT-DESC;FMTTYPE=text/html:Noah Project&rsquo\;s annual Golf Tournament is on for 2021!<br />\n<br />\nAll proceeds from this event support the mission of Noah Project to empower victims to become survivors\, and working to end domestic violence and sexual assault. This includes free\, anonymous access to safe shelter\, advocacy\, legal and counseling services\, life skills training and outreach services.<br />\n<br />\n60 team spots available. Tee Times: 8:30 a.m. &amp\; 1:30 p.m. Team prizes for top three teams of each tee time. Giftbags include one dozen TaylorMade TP5 golf balls\, a silicone pint glass\, and other goodies.
LOCATION:Abilene Country Club--South Course
UID:e.3433.4296
SEQUENCE:3
DTSTAMP:20260423T183343Z
URL:https://business.abilenechamber.com/events/details/noah-project-golf-tournament-2021-4296
END:VEVENT

END:VCALENDAR
