BEGIN:VCALENDAR
VERSION:2.0
PRODID:-//ChamberMaster//Event Calendar 2.0//EN
METHOD:PUBLISH
X-PUBLISHED-TTL:P3D
REFRESH-INTERVAL:P3D
CALSCALE:GREGORIAN
BEGIN:VEVENT
DTSTART:20220727T190000Z
DTEND:20220727T200000Z
X-MICROSOFT-CDO-ALLDAYEVENT:FALSE
SUMMARY:Microsoft Word – Beyond the Basics | Virtual Training
DESCRIPTION:In this 60-minute session\, we will cover the following: using the Navigation Pane\, word styles\, themes\, table of contents\, page breaks\, cover pages and using the Ruler and tab stops.
X-ALT-DESC;FMTTYPE=text/html:In this 60-minute session\, we will cover the following: using the Navigation Pane\, word styles\, themes\, table of contents\, page breaks\, cover pages and using the Ruler and tab stops.
LOCATION:Online Training
UID:e.3433.4732
SEQUENCE:3
DTSTAMP:20260425T155624Z
URL:https://business.abilenechamber.com/events/details/microsoft-word-beyond-the-basics-virtual-training-4732
END:VEVENT

END:VCALENDAR
