BEGIN:VCALENDAR
VERSION:2.0
PRODID:-//ChamberMaster//Event Calendar 2.0//EN
METHOD:PUBLISH
X-PUBLISHED-TTL:P3D
REFRESH-INTERVAL:P3D
CALSCALE:GREGORIAN
BEGIN:VEVENT
DTSTART:20220622T190000Z
DTEND:20220622T200000Z
X-MICROSOFT-CDO-ALLDAYEVENT:FALSE
SUMMARY:Microsoft Teams – Beyond the Basics (Virtual Training)
DESCRIPTION:In this 60-minute session\, we outline how to manage channels\, roles\, tabs and take a closer look at file discovery and sharing. This session is recommended for all users who are looking to advance their skills beyond basic everyday use.
X-ALT-DESC;FMTTYPE=text/html:In this 60-minute session\, we outline how to manage channels\, roles\, tabs and take a closer look at file discovery and sharing. This session is recommended for all users who are looking to advance their skills beyond basic everyday use.
LOCATION:https://attendee.gotowebinar.com/register/1903310026074732813
UID:e.3433.4697
SEQUENCE:3
DTSTAMP:20260425T171627Z
URL:https://business.abilenechamber.com/events/details/microsoft-teams-beyond-the-basics-virtual-training-4697
END:VEVENT

END:VCALENDAR
