BEGIN:VCALENDAR
VERSION:2.0
PRODID:-//ChamberMaster//Event Calendar 2.0//EN
METHOD:PUBLISH
X-PUBLISHED-TTL:P3D
REFRESH-INTERVAL:P3D
CALSCALE:GREGORIAN
BEGIN:VEVENT
DTSTART:20210526T190000Z
DTEND:20210526T203000Z
X-MICROSOFT-CDO-ALLDAYEVENT:FALSE
SUMMARY:Microsoft Outlook: Beyond the Basics
DESCRIPTION:In this 90-minute session\, you will learn how to work with different mail views\, use clean up options\, create and use quick steps\, work with Outlook rules\, share and use calendars and tasks versus to-do's. Presented by JoLynn Rihn\, Certified Trainer and Microsoft Master Instructor.
X-ALT-DESC;FMTTYPE=text/html:In this 90-minute session\, you will learn how to work with different mail views\, use clean up options\, create and use quick steps\, work with Outlook rules\, share and use calendars and tasks versus to-do&rsquo\;s. Presented by JoLynn Rihn\, Certified Trainer and Microsoft Master Instructor.
LOCATION:Online: https://us02web.zoom.us/webinar/register/WN_BTNYmmQOR8Kgcvi2xTNLMg
UID:e.3433.4355
SEQUENCE:3
DTSTAMP:20260423T211225Z
URL:https://business.abilenechamber.com/events/details/microsoft-outlook-beyond-the-basics-4355
END:VEVENT

END:VCALENDAR
