BEGIN:VCALENDAR
VERSION:2.0
PRODID:-//ChamberMaster//Event Calendar 2.0//EN
METHOD:PUBLISH
X-PUBLISHED-TTL:P3D
REFRESH-INTERVAL:P3D
CALSCALE:GREGORIAN
BEGIN:VEVENT
DTSTART:20210817T200000Z
DTEND:20210817T210000Z
X-MICROSOFT-CDO-ALLDAYEVENT:FALSE
SUMMARY:Mezamiz Coffee House
DESCRIPTION:Join us for the 1 Year Anniversary Ribbon Cutting of Mezamiz Coffee House!
X-ALT-DESC;FMTTYPE=text/html:Join us for the 1 Year Anniversary Ribbon Cutting of Mezamiz Coffee House!&nbsp\;
LOCATION:3909 S. 7th Street Abilene\, Texas 79605
UID:e.3433.4452
SEQUENCE:3
DTSTAMP:20260423T234129Z
URL:https://business.abilenechamber.com/events/details/mezamiz-coffee-house-4452
END:VEVENT

END:VCALENDAR
