BEGIN:VCALENDAR
VERSION:2.0
PRODID:-//ChamberMaster//Event Calendar 2.0//EN
METHOD:PUBLISH
X-PUBLISHED-TTL:P3D
REFRESH-INTERVAL:P3D
CALSCALE:GREGORIAN
BEGIN:VEVENT
DTSTART:20220514T160000Z
DTEND:20220514T220000Z
X-MICROSOFT-CDO-ALLDAYEVENT:FALSE
SUMMARY:Mall-Wide Job Fair
DESCRIPTION:Looking for a full-time\, part-time or seasonal job? We have you covered! Located mall-wide at participating retailers.
X-ALT-DESC;FMTTYPE=text/html:Looking for a full-time\, part-time or seasonal job? We have you covered! Located mall-wide at participating retailers.
LOCATION:Mall of Abilene\, mall-wide
UID:e.3433.4660
SEQUENCE:3
DTSTAMP:20260425T184853Z
URL:https://business.abilenechamber.com/events/details/mall-wide-job-fair-4660
END:VEVENT

END:VCALENDAR
