BEGIN:VCALENDAR
VERSION:2.0
PRODID:-//ChamberMaster//Event Calendar 2.0//EN
METHOD:PUBLISH
X-PUBLISHED-TTL:P3D
REFRESH-INTERVAL:P3D
CALSCALE:GREGORIAN
BEGIN:VEVENT
DTSTART:20191029T230000Z
DTEND:20191030T010000Z
X-MICROSOFT-CDO-ALLDAYEVENT:FALSE
SUMMARY:Mall-O-Ween & Costume Contest
DESCRIPTION:Join us for our annual Mall-O-Ween and Costume Contest sponsored by Coca-Cola and hosted by Key City Entertainment. Participating organizations include Day Nursery of Abilene\, Children's Dentistry of Abilene\, New Horizons\, Texas Tech University Health Sciences Center\, Meals on Wheels\, Alliance for Women & Children\, and many more! Plus\, enjoy a special performance by Team Chip Tae Kwon Do Centers.
X-ALT-DESC;FMTTYPE=text/html:Join us for our annual Mall-O-Ween and Costume Contest sponsored by Coca-Cola and hosted by Key City Entertainment. Participating organizations include Day Nursery of Abilene\, Children&rsquo\;s Dentistry of Abilene\, New Horizons\, Texas Tech University Health Sciences Center\, Meals on Wheels\, Alliance for Women &amp\; Children\, and many more! Plus\, enjoy a special performance by Team Chip Tae Kwon Do Centers.
LOCATION:Mall of Abilene - Women's Dillard's Courtyard
UID:e.3433.3790
SEQUENCE:3
DTSTAMP:20260423T173042Z
URL:https://business.abilenechamber.com/events/details/mall-o-ween-costume-contest-3790
END:VEVENT

END:VCALENDAR
