BEGIN:VCALENDAR
VERSION:2.0
PRODID:-//ChamberMaster//Event Calendar 2.0//EN
METHOD:PUBLISH
X-PUBLISHED-TTL:P3D
REFRESH-INTERVAL:P3D
CALSCALE:GREGORIAN
BEGIN:VEVENT
DTSTART:20240916T170000Z
DTEND:20240916T180000Z
X-MICROSOFT-CDO-ALLDAYEVENT:FALSE
SUMMARY:Lunch & Learn Series: How to Start a Small Business
DESCRIPTION:We will provide an overview of what steps and procedures that should be taken to start a small business including risks\, opportunities and rewards.
X-ALT-DESC;FMTTYPE=text/html:We will provide an overview of what steps and procedures that should be taken to start a small business including risks\, opportunities and rewards.
LOCATION:Cross Plains Community Center 108 N Beech St Cross Plains\, TX 76443
UID:e.3433.5344
SEQUENCE:3
DTSTAMP:20260423T083706Z
URL:https://business.abilenechamber.com/events/details/lunch-learn-series-how-to-start-a-small-business-5344
END:VEVENT

END:VCALENDAR
