BEGIN:VCALENDAR
VERSION:2.0
PRODID:-//ChamberMaster//Event Calendar 2.0//EN
METHOD:PUBLISH
X-PUBLISHED-TTL:P3D
REFRESH-INTERVAL:P3D
CALSCALE:GREGORIAN
BEGIN:VEVENT
DTSTART:20241118T180000Z
DTEND:20241118T190000Z
X-MICROSOFT-CDO-ALLDAYEVENT:FALSE
SUMMARY:Lunch & Learn Series: Basics of Small Business Structure
DESCRIPTION:This presentation will introduce the leading types of business entities and provide considerations and strategies in selecting the entity that is right for you.
X-ALT-DESC;FMTTYPE=text/html:This presentation will introduce the leading types of business entities and provide considerations and strategies in selecting the entity that is right for you.
LOCATION:Cross Plains Community Center 108 N Beech St Cross Plains\, TX 76443
UID:e.3433.5345
SEQUENCE:3
DTSTAMP:20260423T105632Z
URL:https://business.abilenechamber.com/events/details/lunch-learn-series-basics-of-small-business-structure-5345
END:VEVENT

END:VCALENDAR
