BEGIN:VCALENDAR
VERSION:2.0
PRODID:-//ChamberMaster//Event Calendar 2.0//EN
METHOD:PUBLISH
X-PUBLISHED-TTL:P3D
REFRESH-INTERVAL:P3D
CALSCALE:GREGORIAN
BEGIN:VEVENT
DTSTART:20210813T000000Z
DTEND:20210815T190000Z
X-MICROSOFT-CDO-ALLDAYEVENT:FALSE
SUMMARY:Just Between Friends Back to School Sale
DESCRIPTION:Join us Aug 12-15th at the Taylor County Fairgrounds Big Country Hall for the All Seasons Back to School Sale. Sell your children's outgrown items and make the most money back. Local families enjoy shopping and saving up to 90% off retail prices on all things kids and maternity: clothes\, shoes\, indoor/outdoor toys\, baby gear\, books\, bedding\, bags\, accessories\, and so much more! JBF partners with local charities to continue the good works in our community beyond our sale. Sign up to sell\, get tickets\, and more information at abilene.jbfsale.com
X-ALT-DESC;FMTTYPE=text/html:Join us Aug 12-15th at the Taylor County Fairgrounds Big Country Hall for the All Seasons Back to School Sale. Sell your children&#39\;s outgrown items and make the most money back. Local families enjoy shopping and saving up to 90% off retail prices on all things kids and maternity: clothes\, shoes\, indoor/outdoor toys\, baby gear\, books\, bedding\, bags\, accessories\, and so much more! JBF partners with local charities to continue the good works in our community beyond our sale. Sign up to sell\, get tickets\, and more information at abilene.jbfsale.com
LOCATION:Taylor County Fairgrounds Big Country Hall 1801 E South 11th St Abilene\, TX 79602 Across the street from the Zoo Follow the Big Purple Flags
UID:e.3433.4424
SEQUENCE:3
DTSTAMP:20260423T234521Z
URL:https://business.abilenechamber.com/events/details/just-between-friends-back-to-school-sale-4424
END:VEVENT

END:VCALENDAR
