BEGIN:VCALENDAR
VERSION:2.0
PRODID:-//ChamberMaster//Event Calendar 2.0//EN
METHOD:PUBLISH
X-PUBLISHED-TTL:P3D
REFRESH-INTERVAL:P3D
CALSCALE:GREGORIAN
BEGIN:VEVENT
DTSTART:20250304T180000Z
DTEND:20250304T180000Z
X-MICROSOFT-CDO-ALLDAYEVENT:FALSE
SUMMARY:Jay Moore Presents - Hendrick Health: A Century of Healing Ministry
DESCRIPTION:For over one hundred years\, local doctors and nurses have come together to care for our community. Join Abilene historian Jay Moore for this free event and presentation celebrating these leaders and hist new book "Hendrick Health: Century of Healing Ministry."
X-ALT-DESC;FMTTYPE=text/html:For over one hundred years\, local doctors and nurses have come together to care for our community. Join Abilene historian Jay Moore for this free event and presentation celebrating these leaders and hist new book &quot\;Hendrick Health: Century of Healing Ministry.&quot\;
LOCATION:Wylie Performing Arts Center
UID:e.3433.5563
SEQUENCE:3
DTSTAMP:20260423T145630Z
URL:https://business.abilenechamber.com/events/details/jay-moore-presents-hendrick-health-a-century-of-healing-ministry-03-04-2025-5563
END:VEVENT

END:VCALENDAR
