BEGIN:VCALENDAR
VERSION:2.0
PRODID:-//ChamberMaster//Event Calendar 2.0//EN
METHOD:PUBLISH
X-PUBLISHED-TTL:P3D
REFRESH-INTERVAL:P3D
CALSCALE:GREGORIAN
BEGIN:VEVENT
DTSTART:20220321T133000Z
DTEND:20220321T153000Z
X-MICROSOFT-CDO-ALLDAYEVENT:FALSE
SUMMARY:Intro to Government Contracting
DESCRIPTION:Are you interested in doing business with the government? Then this is the introduction you have been looking for. \n\nRich Lyles with the Procurement Technical Assistance Center (PTAC) will be providing a 2-hour workshop on how to get started. \n\nAttendance is limited to 15 participants.
X-ALT-DESC;FMTTYPE=text/html:Are you interested in doing business with the government? Then this is the introduction you have been looking for.&nbsp\;<br />\nRich Lyles with the Procurement Technical Assistance Center (PTAC) will be providing a 2-hour workshop on how to get started.&nbsp\;<br />\nAttendance is limited to 15 participants.
LOCATION:Abilene Chamber of Commerce 400 Pine Street Suite 500 Abilene\, Texas
UID:e.3433.4590
SEQUENCE:3
DTSTAMP:20260425T215008Z
URL:https://business.abilenechamber.com/events/details/intro-to-government-contracting-4590
END:VEVENT

END:VCALENDAR
