BEGIN:VCALENDAR
VERSION:2.0
PRODID:-//ChamberMaster//Event Calendar 2.0//EN
METHOD:PUBLISH
X-PUBLISHED-TTL:P3D
REFRESH-INTERVAL:P3D
CALSCALE:GREGORIAN
BEGIN:VEVENT
DTSTART:20220624T160000Z
DTEND:20220624T170000Z
X-MICROSOFT-CDO-ALLDAYEVENT:FALSE
SUMMARY:Improve Organizational Efficiency: Benefits of Internal Audit
DESCRIPTION:For many organizations\, limited resources and endless demands can make it difficult to look beyond day-to-day operations. Yet\, the regulatory and compliance landscape demands strong internal controls. This webinar will discuss the importance of an internal audit and how it will help your organization reduce risk and improve operational performance. Additionally\, we will highlight how internal audits help management ensure strategic objectives are being met and/or where improvements are needed. Learning Objectives: Explain how an internal audit can monitor the myriad of compliance requirements. Define the differences of co-sourcing and outsourcing your internal audit. Summarize the functional support an internal audit function can provide your organization. Presenter: Scott Sisel\, CPA\, Partner-in-Charge of Internal Audit | Eide Bailly Scott leads Eide Bailly's Internal Audit practice and serves clients across a variety of industries. He assists and advises organizations on internal control and governance\, business process and restructuring\, merger and acquisitions\, organizational leadership as it relates to internal audit and compliance functions. Scott's areas of expertise include finance and accounting\, internal controls\, risk management\, organizational leadership\, merger and acquisitions\, strategic planning and transaction execution. He also leads the firm's Health System Market Segment and serves on the Healthcare Executive Council. CPE Information CPE Credit: 1 Field of Study: Auditing Level of Knowledge: Basic Delivery Method: Group-Internet Based Additional Information: This is a Group-Internet Based Webinar. No prerequisites or advanced preparation required. For information regarding a complaint and/or program cancellation policies\, please contact Amy DeGeorge.
X-ALT-DESC;FMTTYPE=text/html:For many organizations\, limited resources and endless demands can make it difficult to look beyond day-to-day operations. Yet\, the regulatory and compliance landscape demands strong internal controls. This webinar will discuss the importance of an internal audit and how it will help your organization reduce risk and improve operational performance. Additionally\, we will highlight how internal audits help management ensure strategic objectives are being met and/or where improvements are needed. Learning Objectives: Explain how an internal audit can monitor the myriad of compliance requirements. Define the differences of co-sourcing and outsourcing your internal audit. Summarize the functional support an internal audit function can provide your organization. Presenter: Scott Sisel\, CPA\, Partner-in-Charge of Internal Audit | Eide Bailly Scott leads Eide Bailly&rsquo\;s Internal Audit practice and serves clients across a variety of industries. He assists and advises organizations on internal control and governance\, business process and restructuring\, merger and acquisitions\, organizational leadership as it relates to internal audit and compliance functions. Scott&#39\;s areas of expertise include finance and accounting\, internal controls\, risk management\, organizational leadership\, merger and acquisitions\, strategic planning and transaction execution. He also leads the firm&rsquo\;s Health System Market Segment and serves on the Healthcare Executive Council. CPE Information CPE Credit: 1 Field of Study: Auditing Level of Knowledge: Basic Delivery Method: Group-Internet Based Additional Information: This is a Group-Internet Based Webinar. No prerequisites or advanced preparation required. For information regarding a complaint and/or program cancellation policies\, please contact Amy DeGeorge.
LOCATION:Online webinar
UID:e.3433.4692
SEQUENCE:3
DTSTAMP:20260425T184930Z
URL:https://business.abilenechamber.com/events/details/improve-organizational-efficiency-benefits-of-internal-audit-06-24-2022-4692
END:VEVENT

END:VCALENDAR
