BEGIN:VCALENDAR
VERSION:2.0
PRODID:-//ChamberMaster//Event Calendar 2.0//EN
METHOD:PUBLISH
X-PUBLISHED-TTL:P3D
REFRESH-INTERVAL:P3D
CALSCALE:GREGORIAN
BEGIN:VEVENT
DTSTART:20210716T170000Z
DTEND:20210716T180000Z
X-MICROSOFT-CDO-ALLDAYEVENT:FALSE
SUMMARY:HR Insights: Recruiting and Retention Strategies
DESCRIPTION:You have a job to fill. Maybe you're a new business just getting started\, maybe you need to find a replacement\, or maybe you've created a new role to support your growing business. Where do you start? There's a lot that happens during the entire recruiting process from job posting to hire all while keeping the company's culture and employment law in mind. This webinar will discuss the tools and practices that can make the process go smoothly. Learning Objectives: Outline what's involved in the recruiting process Review best practices Discuss tools and resources available Presenter: Lauri Dahlberg\, PHR\, SHRM-CP\, Human Resources Consulting Manager | Eide Bailly Lauri has more than 30 years of experience with human resources\, providing services to clients within a variety of industries. She guides clients to develop best practices and processes for recruitment\, on-boarding\, performance management and compensation so that they can be successful with employee retention. Lauri also performs personnel file audits and develops policies and/or employee handbooks to assist clients with compliance on the HR side of their business. With a passion for helping others understand and navigate the various HR policies and requirements\, Lauri can guide your people-practices to new heights. CPE Information CPE Credit: 1 Field of Study: Personnel/HR Level of Knowledge: Overview Delivery Method: Group-Internet Based
X-ALT-DESC;FMTTYPE=text/html:You have a job to fill. Maybe you&rsquo\;re a new business just getting started\, maybe you need to find a replacement\, or maybe you&rsquo\;ve created a new role to support your growing business. Where do you start? There&rsquo\;s a lot that happens during the entire recruiting process&mdash\;from job posting to hire&mdash\;all while keeping the company&rsquo\;s culture and employment law in mind. This webinar will discuss the tools and practices that can make the process go smoothly. Learning Objectives: Outline what&#39\;s involved in the recruiting process Review best practices Discuss tools and resources available Presenter: Lauri Dahlberg\, PHR\, SHRM-CP\, Human Resources Consulting Manager | Eide Bailly Lauri has more than 30 years of experience with human resources\, providing services to clients within a variety of industries. She guides clients to develop best practices and processes for recruitment\, on-boarding\, performance management and compensation so that they can be successful with employee retention. Lauri also performs personnel file audits and develops policies and/or employee handbooks to assist clients with compliance on the HR side of their business. With a passion for helping others understand and navigate the various HR policies and requirements\, Lauri can guide your people-practices to new heights. CPE Information CPE Credit: 1 Field of Study: Personnel/HR Level of Knowledge: Overview Delivery Method: Group-Internet Based
LOCATION:Online webinar
UID:e.3433.4415
SEQUENCE:3
DTSTAMP:20260423T223731Z
URL:https://business.abilenechamber.com/events/details/hr-insights-recruiting-and-retention-strategies-4415
END:VEVENT

END:VCALENDAR
