BEGIN:VCALENDAR
VERSION:2.0
PRODID:-//ChamberMaster//Event Calendar 2.0//EN
METHOD:PUBLISH
X-PUBLISHED-TTL:P3D
REFRESH-INTERVAL:P3D
CALSCALE:GREGORIAN
BEGIN:VEVENT
DTSTART:20220331T170000Z
DTEND:20220331T180000Z
X-MICROSOFT-CDO-ALLDAYEVENT:FALSE
SUMMARY:How to Wrangle Your Business Data for Better Decision Making
DESCRIPTION:By this point\, you probably understand the value of your business data   and maybe you've even started diving into reports to leverage it   but if you're like most of our clients\, access and utilization are still a key challenge. If you are struggling to understand the data you have so that you can make better\, more informed decisions\, you need to make centralizing and establishing a strong data foundation a top organizational priority. Join our webinar as we explore how your data is a key element to your organization's digital transformation journey. Gaining visibility and access to real-time data and then using those insights to lead strategy and direction will transform your organizational results. Learning Objectives: Explore how data chaos impacts operations and performance. Analyze the elements of an effective data strategy. Explain the function and purpose of a data warehouse. Identify the steps to centralize and build a data foundation. Demonstrate real-life examples of data in action. Presenter: Nate Allphin\, Microsoft Certified IT Professional\, Principal | Eide Bailly Nate has 20 years of experience in the data and analytics world. His career started as a data analyst and he quickly came to realize that organizing and enabling companies with data was his true passion. After various stints at startup companies during his early career\, he met his eventual business partner\, Nathan McMurtrey\, and they founded data warehousing and consulting company Xerva in 2014. Xerva was focused on helping companies that felt they were buried in data chaos. Their passion for organizing data and making it actionable\, accessible\, and accurate has served them well. In 2019\, Xerva was acquired by Eide Bailly to help enhance the offering they could provide to the many clients that Eide Bailly serves. CPE Information CPE Credit: 1 Field of Study: Specialized Knowledge & Applications Level of Knowledge: Basic Delivery Method: Group-Internet Based Additional Information: This is a Group-Internet Based Webinar. No prerequisites or advanced preparation required. For information regarding a complaint and/or program cancellation policies\, please contact Amy DeGeorge.
X-ALT-DESC;FMTTYPE=text/html:By this point\, you probably understand the value of your business data &ndash\; and maybe you&rsquo\;ve even started diving into reports to leverage it &ndash\; but if you&rsquo\;re like most of our clients\, access and utilization are still a key challenge. If you are struggling to understand the data you have so that you can make better\, more informed decisions\, you need to make centralizing and establishing a strong data foundation a top organizational priority. Join our webinar as we explore how your data is a key element to your organization&rsquo\;s digital transformation journey. Gaining visibility and access to real-time data and then using those insights to lead strategy and direction will transform your organizational results. Learning Objectives: Explore how data chaos impacts operations and performance. Analyze the elements of an effective data strategy. Explain the function and purpose of a data warehouse. Identify the steps to centralize and build a data foundation. Demonstrate real-life examples of data in action. Presenter: Nate Allphin\, Microsoft Certified IT Professional\, Principal | Eide Bailly Nate has 20 years of experience in the data and analytics world. His career started as a data analyst and he quickly came to realize that organizing and enabling companies with data was his true passion. After various stints at startup companies during his early career\, he met his eventual business partner\, Nathan McMurtrey\, and they founded data warehousing and consulting company Xerva in 2014. Xerva was focused on helping companies that felt they were buried in data chaos. Their passion for organizing data and making it actionable\, accessible\, and accurate has served them well. In 2019\, Xerva was acquired by Eide Bailly to help enhance the offering they could provide to the many clients that Eide Bailly serves. CPE Information CPE Credit: 1 Field of Study: Specialized Knowledge &amp\; Applications Level of Knowledge: Basic Delivery Method: Group-Internet Based Additional Information: This is a Group-Internet Based Webinar. No prerequisites or advanced preparation required. For information regarding a complaint and/or program cancellation policies\, please contact Amy DeGeorge.
LOCATION:Online webinar
UID:e.3433.4579
SEQUENCE:3
DTSTAMP:20260425T231150Z
URL:https://business.abilenechamber.com/events/details/how-to-wrangle-your-business-data-for-better-decision-making-4579
END:VEVENT

END:VCALENDAR
