BEGIN:VCALENDAR
VERSION:2.0
PRODID:-//ChamberMaster//Event Calendar 2.0//EN
METHOD:PUBLISH
X-PUBLISHED-TTL:P3D
REFRESH-INTERVAL:P3D
CALSCALE:GREGORIAN
BEGIN:VEVENT
DTSTART:20250128T170000Z
DTEND:20250128T180000Z
X-MICROSOFT-CDO-ALLDAYEVENT:FALSE
SUMMARY:Grow with Google: Grow Your Business with AI-Powered Tools by Google
DESCRIPTION:Artificial Intelligence (AI) is a powerful technology that can help simplify business tasks and create new opportunities for small businesses and entrepreneurs   but knowing how to use it may seem out of reach. Developed with input from experts at Google\, this workshop will explain the basics of AI and how AI-powered tools by Google can help small businesses be more efficient\, enhance customer experiences\, and drive growth.
X-ALT-DESC;FMTTYPE=text/html:Artificial Intelligence (AI) is a powerful technology that can help simplify business tasks and create new opportunities for small businesses and entrepreneurs &ndash\; but knowing how to use it may seem out of reach. Developed with input from experts at Google\, this workshop will explain the basics of AI and how AI-powered tools by Google can help small businesses be more efficient\, enhance customer experiences\, and drive growth.
LOCATION:ONLINE
UID:e.3433.5519
SEQUENCE:3
DTSTAMP:20260423T145538Z
URL:https://business.abilenechamber.com/events/details/grow-with-google-grow-your-business-with-ai-powered-tools-by-google-5519
END:VEVENT

END:VCALENDAR
