BEGIN:VCALENDAR
VERSION:2.0
PRODID:-//ChamberMaster//Event Calendar 2.0//EN
METHOD:PUBLISH
X-PUBLISHED-TTL:P3D
REFRESH-INTERVAL:P3D
CALSCALE:GREGORIAN
BEGIN:VEVENT
DTSTART:20241106T160000Z
DTEND:20241106T170000Z
X-MICROSOFT-CDO-ALLDAYEVENT:FALSE
SUMMARY:Groundbreaking - First Christian Church
DESCRIPTION:Join us as we celebrate the groundbreaking of the new mother's day out program at the First Christian Church!
X-ALT-DESC;FMTTYPE=text/html:Join us as we celebrate the groundbreaking of the new mother&#39\;s day out program at the First Christian Church!&nbsp\;
LOCATION:5125 Antilley Road Abilene\, TX 79606
UID:e.3433.5449
SEQUENCE:3
DTSTAMP:20260423T105453Z
URL:https://business.abilenechamber.com/events/details/groundbreaking-first-christian-church-5449
END:VEVENT

END:VCALENDAR
