BEGIN:VCALENDAR
VERSION:2.0
PRODID:-//ChamberMaster//Event Calendar 2.0//EN
METHOD:PUBLISH
X-PUBLISHED-TTL:P3D
REFRESH-INTERVAL:P3D
CALSCALE:GREGORIAN
BEGIN:VEVENT
DTSTART:20210503T203000Z
DTEND:20210503T213000Z
X-MICROSOFT-CDO-ALLDAYEVENT:FALSE
SUMMARY:Great West Texas Economic Reboot Ribbon Cutting
DESCRIPTION:Join us on Monday\, May 3 as we close Cypress Street for about an hour and celebrate the official reopening of this economic highway that we call Abilene. We'll be at the corner of North 2nd and Cypress (by the cool new park) at 3:30 pm sharp. (Note: in the meantime\, the economy is open   please keep spending local!)\n\n\n\nAre you a business without a storefront? Let us help celebrate your business with a ribbon cutting during the Great West Texas Economic Reboot Ribbon Cutting thanks to Mike Dunahoo and family at Star Dodge Chrysler Jeep Ram Hyundai! Click here to get more info.
X-ALT-DESC;FMTTYPE=text/html:<span style="color: rgb(34\, 34\, 34)\; font-family: Montserrat\, Helvetica\, Arial\, sans-serif\; font-size: 16px\;">Join us on&nbsp\;</span><span style="box-sizing: inherit\; font-family: Montserrat\, Helvetica\, Arial\, sans-serif\; font-size: 16px\; color: rgb(255\, 0\, 0)\;"><span style="box-sizing: inherit\; font-weight: 600\;">Monday\, May 3</span>&nbsp\;</span><span style="color: rgb(34\, 34\, 34)\; font-family: Montserrat\, Helvetica\, Arial\, sans-serif\; font-size: 16px\;">as we close Cypress Street for about an hour and celebrate the official reopening of this economic highway that we call Abilene. We&rsquo\;ll be at the corner of North 2nd and Cypress (by the cool new park) at 3:30 pm sharp.&nbsp\;</span><em style="box-sizing: inherit\; color: rgb(34\, 34\, 34)\; font-family: Montserrat\, Helvetica\, Arial\, sans-serif\; font-size: 16px\;">(Note: in the meantime\, the economy is open &ndash\; please keep spending local!)</em><br />\n<br />\n<span style="color: rgb(34\, 34\, 34)\; font-family: Montserrat\, Helvetica\, Arial\, sans-serif\; font-size: 16px\;">Are you a business without a storefront? Let us help celebrate your business with a ribbon cutting during the Great West Texas Economic Reboot Ribbon Cutting thanks to Mike Dunahoo and family at Star Dodge Chrysler Jeep Ram Hyundai!&nbsp\;</span><span style="box-sizing: inherit\; font-family: Montserrat\, Helvetica\, Arial\, sans-serif\; font-size: 16px\; color: rgb(255\, 0\, 0)\;"><span style="box-sizing: inherit\; font-weight: 600\;"><a href="mailto:jennifer@abilenechamber.com" style="box-sizing: inherit\; color: rgb(255\, 0\, 0)\;">Click here</a></span></span><span style="color: rgb(34\, 34\, 34)\; font-family: Montserrat\, Helvetica\, Arial\, sans-serif\; font-size: 16px\;">&nbsp\;to get more info.</span>
LOCATION:
UID:e.3433.4332
SEQUENCE:3
DTSTAMP:20260423T201204Z
URL:https://business.abilenechamber.com/events/details/great-west-texas-economic-reboot-ribbon-cutting-4332
END:VEVENT

END:VCALENDAR
