BEGIN:VCALENDAR
VERSION:2.0
PRODID:-//ChamberMaster//Event Calendar 2.0//EN
METHOD:PUBLISH
X-PUBLISHED-TTL:P3D
REFRESH-INTERVAL:P3D
CALSCALE:GREGORIAN
BEGIN:VEVENT
DTSTART:20210430T210000Z
DTEND:20210430T220000Z
X-MICROSOFT-CDO-ALLDAYEVENT:FALSE
SUMMARY:Grand Re-Opening - Children's Museum at the Grace
DESCRIPTION:Re-opening of the fully renovated Children's Museum - now called Spark\, featuring over 30 interactive fun for the whole family. Features art and history.
X-ALT-DESC;FMTTYPE=text/html:Re-opening of the fully renovated Children's Museum - now called Spark\, featuring over 30 interactive fun for the whole family. Features art and history.
LOCATION:The Grace Museum 102 Cypress Street - 2nd Floor Abilene\, Texas 79601
UID:e.3433.4333
SEQUENCE:3
DTSTAMP:20260423T184245Z
URL:https://business.abilenechamber.com/events/details/grand-re-opening-children-s-museum-at-the-grace-4333
END:VEVENT

END:VCALENDAR
