BEGIN:VCALENDAR
VERSION:2.0
PRODID:-//ChamberMaster//Event Calendar 2.0//EN
METHOD:PUBLISH
X-PUBLISHED-TTL:P3D
REFRESH-INTERVAL:P3D
CALSCALE:GREGORIAN
BEGIN:VEVENT
DTSTART:20210412T183000Z
DTEND:20210412T190000Z
X-MICROSOFT-CDO-ALLDAYEVENT:FALSE
SUMMARY:Grand Opening Ribbon Cuttings for Abilene Monument Co and 20 Year Anniversary Concepts in Stone
DESCRIPTION:
X-ALT-DESC;FMTTYPE=text/html:
LOCATION:1221 North Treadaway Abilene\, Texas 79601
UID:e.3433.4322
SEQUENCE:3
DTSTAMP:20260423T184403Z
URL:https://business.abilenechamber.com/events/details/grand-opening-ribbon-cuttings-for-abilene-monument-co-and-20-year-anniversary-concepts-in-stone-4322
END:VEVENT

END:VCALENDAR
