BEGIN:VCALENDAR
VERSION:2.0
PRODID:-//ChamberMaster//Event Calendar 2.0//EN
METHOD:PUBLISH
X-PUBLISHED-TTL:P3D
REFRESH-INTERVAL:P3D
CALSCALE:GREGORIAN
BEGIN:VEVENT
DTSTART:20250411T180000Z
DTEND:20250411T190000Z
X-MICROSOFT-CDO-ALLDAYEVENT:FALSE
SUMMARY:Grand Opening Ribbon Cutting - Smashin' Grill
DESCRIPTION:Let's all gather and help celebrate the grand opening of Smashin' Grill!
X-ALT-DESC;FMTTYPE=text/html:Let&#39\;s all gather and help celebrate the grand opening of Smashin&#39\; Grill!
LOCATION:2642 Eastlake Road Abilene\, TX 79605
UID:e.3433.5590
SEQUENCE:3
DTSTAMP:20260423T162511Z
URL:https://business.abilenechamber.com/events/details/grand-opening-ribbon-cutting-smashin-grill-5590
END:VEVENT

END:VCALENDAR
