BEGIN:VCALENDAR
VERSION:2.0
PRODID:-//ChamberMaster//Event Calendar 2.0//EN
METHOD:PUBLISH
X-PUBLISHED-TTL:P3D
REFRESH-INTERVAL:P3D
CALSCALE:GREGORIAN
BEGIN:VEVENT
DTSTART:20210505T160000Z
DTEND:20210505T170000Z
X-MICROSOFT-CDO-ALLDAYEVENT:FALSE
SUMMARY:Grand Opening Ribbon Cutting for Mid-Tex Mortage
DESCRIPTION:
X-ALT-DESC;FMTTYPE=text/html:
LOCATION:#1 Village Drive\, Ste. 354 Abilene\, Texas 79606
UID:e.3433.4325
SEQUENCE:3
DTSTAMP:20260423T211608Z
URL:https://business.abilenechamber.com/events/details/grand-opening-ribbon-cutting-for-mid-tex-mortage-4325
END:VEVENT

END:VCALENDAR
