BEGIN:VCALENDAR
VERSION:2.0
PRODID:-//ChamberMaster//Event Calendar 2.0//EN
METHOD:PUBLISH
X-PUBLISHED-TTL:P3D
REFRESH-INTERVAL:P3D
CALSCALE:GREGORIAN
BEGIN:VEVENT
DTSTART:20190913T160000Z
DTEND:20190913T170000Z
X-MICROSOFT-CDO-ALLDAYEVENT:FALSE
SUMMARY:Grand Opening & Relocation - Girl Scouts of Texas Oklahoma Plains
DESCRIPTION:Girl Scouts of Texas Oklahoma Plains will celebrate the grand opening of it's new office\, starting with a ribbon cutting on Friday\, September 13 at 11 am and a Grand Opening event on Saturday\, September 14 from 10 am - 2 pm.
X-ALT-DESC;FMTTYPE=text/html:Girl Scouts of Texas Oklahoma Plains will celebrate the grand opening of it&#39\;s new office\, starting with a ribbon cutting on Friday\, September 13 at 11 am and a Grand Opening event on Saturday\, September 14 from 10 am - 2 pm.&nbsp\;
LOCATION:4150 Southwest Drive Abilene\, Texas 79606
UID:e.3433.3765
SEQUENCE:3
DTSTAMP:20260423T173349Z
URL:https://business.abilenechamber.com/events/details/grand-opening-relocation-girl-scouts-of-texas-oklahoma-plains-3765
END:VEVENT

END:VCALENDAR
