BEGIN:VCALENDAR
VERSION:2.0
PRODID:-//ChamberMaster//Event Calendar 2.0//EN
METHOD:PUBLISH
X-PUBLISHED-TTL:P3D
REFRESH-INTERVAL:P3D
CALSCALE:GREGORIAN
BEGIN:VEVENT
DTSTART:20191031T153000Z
DTEND:20191031T163000Z
X-MICROSOFT-CDO-ALLDAYEVENT:FALSE
SUMMARY:Grand Opening - Melanie Hardy State Farm Insurance
DESCRIPTION:
X-ALT-DESC;FMTTYPE=text/html:
LOCATION:4015 Buffalo Gap Rd Abilene\, TX 79605
UID:e.3433.3800
SEQUENCE:3
DTSTAMP:20260423T160737Z
URL:https://business.abilenechamber.com/events/details/grand-opening-melanie-hardy-state-farm-insurance-3800
END:VEVENT

END:VCALENDAR
