BEGIN:VCALENDAR
VERSION:2.0
PRODID:-//ChamberMaster//Event Calendar 2.0//EN
METHOD:PUBLISH
X-PUBLISHED-TTL:P3D
REFRESH-INTERVAL:P3D
CALSCALE:GREGORIAN
BEGIN:VEVENT
DTSTART:20191004T163000Z
DTEND:20191004T170000Z
X-MICROSOFT-CDO-ALLDAYEVENT:FALSE
SUMMARY:Grand Opening - Columbian Shapewear & Girdles by Maria
DESCRIPTION:
X-ALT-DESC;FMTTYPE=text/html:
LOCATION:909 Mockingbird Lane Abilene\, TX 79603
UID:e.3433.3785
SEQUENCE:3
DTSTAMP:20260423T160808Z
URL:https://business.abilenechamber.com/events/details/grand-opening-columbian-shapewear-girdles-by-maria-3785
END:VEVENT

END:VCALENDAR
