BEGIN:VCALENDAR
VERSION:2.0
PRODID:-//ChamberMaster//Event Calendar 2.0//EN
METHOD:PUBLISH
X-PUBLISHED-TTL:P3D
REFRESH-INTERVAL:P3D
CALSCALE:GREGORIAN
BEGIN:VEVENT
DTSTART:20241121T190000Z
DTEND:20241121T200000Z
X-MICROSOFT-CDO-ALLDAYEVENT:FALSE
SUMMARY:Grand Opening - Chick-fil-A at the Abilene Regional Airport
DESCRIPTION:Come join the Redcoats as we celebrate the grand opening of the new Chick-fil-A in the Abilene Regional Airport!
X-ALT-DESC;FMTTYPE=text/html:Come join the Redcoats as we celebrate the grand opening of the new Chick-fil-A in the Abilene Regional Airport!
LOCATION:2933 Airport Blvd Abilene\, TX (upper-lever airport terminal)
UID:e.3433.5486
SEQUENCE:3
DTSTAMP:20260423T110351Z
URL:https://business.abilenechamber.com/events/details/grand-opening-chick-fil-a-at-the-abilene-regional-airport-5486
END:VEVENT

END:VCALENDAR
