BEGIN:VCALENDAR
VERSION:2.0
PRODID:-//ChamberMaster//Event Calendar 2.0//EN
METHOD:PUBLISH
X-PUBLISHED-TTL:P3D
REFRESH-INTERVAL:P3D
CALSCALE:GREGORIAN
BEGIN:VEVENT
DTSTART:20201008T180000Z
DTEND:20201009T000000Z
X-MICROSOFT-CDO-ALLDAYEVENT:FALSE
SUMMARY:Government\, Nonprofit\, and Social Services Virtual Career Fair
DESCRIPTION:This Government\, Nonprofit\, & Social Services VIRTUAL Career Fair is brought to you by the West Central Texas Career Consortium (Abilene Christian University\, Angelo State University\, Cisco College\, Hardin Simmons University\, Howard Payne University and McMurry University). The event is for freshmen who are still exploring a variety of career options\, sophomores who are starting to narrow their interests and are looking to develop their student portfolio through meaningful experiences\, and upperclassmen who are preparing to apply and want to network for employment opportunities. Graduate and Professional Schools recruiting for these disciplines are welcome. Participating in this event is an excellent way for your organization to gain visibility and maximize recruiting potential! At our fair\, you'll be able to engage with students in a variety of formats\, including: Video\, audio\, and chat communication with students Group meetings with up to fifty students 1:1 meetings scheduled in advance or after a group session Employers interested in participating in this event are encouraged to register on-line as early as possible. Wednesday\, October 8\, 1:00 PM to 7:00 PM Registration Fee: $25
X-ALT-DESC;FMTTYPE=text/html:This Government\, Nonprofit\, &amp\; Social Services VIRTUAL Career Fair is brought to you by the West Central Texas Career Consortium (Abilene Christian University\, Angelo State University\, Cisco College\, Hardin Simmons University\, Howard Payne University and McMurry University). The event is for freshmen who are still exploring a variety of career options\, sophomores who are starting to narrow their interests and are looking to develop their student portfolio through meaningful experiences\, and upperclassmen who are preparing to apply and want to network for employment opportunities. Graduate and Professional Schools recruiting for these disciplines are welcome. Participating in this event is an excellent way for your organization to gain visibility and maximize recruiting potential! At our fair\, you&rsquo\;ll be able to engage with students in a variety of formats\, including: Video\, audio\, and chat communication with students Group meetings with up to fifty students 1:1 meetings scheduled in advance or after a group session Employers interested in participating in this event are encouraged to register on-line as early as possible. Wednesday\, October 8\, 1:00 PM to 7:00 PM Registration Fee: $25
LOCATION:app.joinhandshake.com/career_fairs/18140/
UID:e.3433.3928
SEQUENCE:3
DTSTAMP:20260423T111022Z
URL:https://business.abilenechamber.com/events/details/government-nonprofit-and-social-services-virtual-career-fair-3928
END:VEVENT

END:VCALENDAR
